BEGIN:VCALENDAR
VERSION:2.0
PRODID:icalendar-ruby
CALSCALE:GREGORIAN
METHOD:PUBLISH
BEGIN:VEVENT
DTSTAMP:20260419T125343Z
UID:116-210663@buckeyebaptist.org
DTSTART:20260502T210000Z
DTEND:20260503T000000Z
CLASS:PUBLIC
CREATED:20260416T143301
DESCRIPTION:
LAST-MODIFIED:20260416T143301
LOCATION:Buckeye Baptist Church | 4609 Bonita Dr\, Middletown\, OH 45044
SUMMARY:Women's Banquet - Celebrating Mother's Day
URL;VALUE=URI:https://www.buckeyebaptist.org/events/womens-banquet-celebrat
 ing-mothers-day/2026-05-02
ATTACH;FILENAME=Copy-of-Womens-banquet-2026.jpeg;FMTTYPE=image/jpeg:https:/
 /dq5pwpg1q8ru0.cloudfront.net/2026/04/09/14/09/00/48f90f50-98a0-451c-bf21-
 7b032a432d5f/Copy-of-Womens-banquet-2026.jpeg
END:VEVENT
END:VCALENDAR
