BEGIN:VCALENDAR
VERSION:2.0
PRODID:icalendar-ruby
CALSCALE:GREGORIAN
METHOD:PUBLISH
BEGIN:VEVENT
DTSTAMP:20260423T085526Z
UID:14-216074@buckeyebaptist.org
DTSTART:20260729T230000Z
DTEND:20260730T001500Z
CLASS:PUBLIC
CREATED:20260422T223717
DESCRIPTION:
LAST-MODIFIED:20260422T223717
LOCATION:Buckeye Baptist Church | 4609 Bonita Dr\, Middletown\, OH 45044
SUMMARY:Wednesday Night Service
URL;VALUE=URI:https://www.buckeyebaptist.org/events/wednesday-night-service
 /2026-07-29
ATTACH;FILENAME=CupW_Bible102.jpg;FMTTYPE=image/jpeg:https://dq5pwpg1q8ru0.
 cloudfront.net/2025/05/23/18/05/34/bf3c4d84-5b9a-456f-9d7a-9d2904b662e2/Cu
 pW_Bible102.jpg
END:VEVENT
END:VCALENDAR
