BEGIN:VCALENDAR
VERSION:2.0
PRODID:icalendar-ruby
CALSCALE:GREGORIAN
METHOD:PUBLISH
BEGIN:VEVENT
DTSTAMP:20260423T022630Z
UID:14-215931@buckeyebaptist.org
DTSTART:20260701T230000Z
DTEND:20260702T001500Z
CLASS:PUBLIC
CREATED:20260422T194338
DESCRIPTION:
LAST-MODIFIED:20260422T194338
LOCATION:Buckeye Baptist Church | 4609 Bonita Dr\, Middletown\, OH 45044
SUMMARY:Wednesday Night Service
URL;VALUE=URI:https://www.buckeyebaptist.org/events/wednesday-night-service
 /2026-07-01
ATTACH;FILENAME=CupW_Bible102.jpg;FMTTYPE=image/jpeg:https://dq5pwpg1q8ru0.
 cloudfront.net/2025/05/23/18/05/34/bf3c4d84-5b9a-456f-9d7a-9d2904b662e2/Cu
 pW_Bible102.jpg
END:VEVENT
END:VCALENDAR
