BEGIN:VCALENDAR
VERSION:2.0
PRODID:icalendar-ruby
CALSCALE:GREGORIAN
METHOD:PUBLISH
BEGIN:VEVENT
DTSTAMP:20260423T100218Z
UID:13-216036@buckeyebaptist.org
DTSTART:20261011T150000Z
DTEND:20261011T163000Z
CLASS:PUBLIC
CREATED:20260422T223717
DESCRIPTION:
LAST-MODIFIED:20260422T223717
LOCATION:Buckeye Baptist Church | 4609 Bonita Dr\, Middletown\, OH 45044
SUMMARY:Sunday Worship Service 
URL;VALUE=URI:https://www.buckeyebaptist.org/events/sunday-worship-service/
 2026-10-11
ATTACH;FILENAME=042011.jpg;FMTTYPE=image/jpeg:https://dq5pwpg1q8ru0.cloudfr
 ont.net/2025/05/23/18/02/31/b1071169-10ea-47ba-b23a-a363b70c8c15/042011.jp
 g
END:VEVENT
END:VCALENDAR
